BEGIN:VCALENDAR
VERSION:2.0
PRODID:-//Feapa - ECPv5.3.0//NONSGML v1.0//EN
CALSCALE:GREGORIAN
METHOD:PUBLISH
X-WR-CALNAME:Feapa
X-ORIGINAL-URL:http://feapa.es
X-WR-CALDESC:Eventos para Feapa
BEGIN:VTIMEZONE
TZID:UTC
BEGIN:STANDARD
TZOFFSETFROM:+0000
TZOFFSETTO:+0000
TZNAME:UTC
DTSTART:20190101T000000
END:STANDARD
END:VTIMEZONE
BEGIN:VEVENT
DTSTART;TZID=UTC:20190406T084500
DTEND;TZID=UTC:20190406T084500
DTSTAMP:20260424T214758
CREATED:20190307T011917Z
LAST-MODIFIED:20190307T011917Z
UID:846-1554540300-1554540300@feapa.es
SUMMARY:VI JORNADA ARTETERAPIA Y EDUCACIÓN
DESCRIPTION:Convivir para aprender.\nEstrategias creativas para la convivencia en los espacios educativos. \nInscripción a las Jornadas: Centro de Formación Permanente \nFecha límite para presentar la Comunicación: 20 de marzo \nCon el entusiasmo y la responsabilidad que nos mantiene en la formación de la disciplina del Arteterapia difundimos esta nueva edición dedicada a la convivencia y los recursos creativos que desde los diferentes lenguajes artísticos podemos utilizar para facilitar una mayor convivencia y consciencia dentro del ámbito de la  educación.\nEn esta ocasión nuestra intención es remarcar la convivencia y el dialogo como formas de aprendizaje. Aprender es una actitud que precisa apertura y creatividad. El aprendizaje en el aula se hace desde un lugar donde todos somos inspiración de aprendizaje para el otro y de descubrimiento de uno mismo. \nEsta actividad no requiere conocimientos previos de los alumnos/as.\nAcción formativa dirigida a: Magisterio\, Pedagogía\, BBAA\, Arteterapia\, Psicología\, Historia del Arte\, Filosofía \nOrganiza:\nMáster en Arteterapia UPV\nConsorci de Museus de la Comunitat Valenciana \nProfesores:\nMaría Llanos Alonso Borso Caminati\nMaria Teresa Colomer Pache\nMaria Victoria Esgueva Lopez\nFernando Hernandez Hernandez\nIsabel Nuñez Ruiz\nMònica Perales i Massana\nLucas Platero\nElena Maria Saez Alonso Necesarios \nFecha: Sábado 6 de abril de 2019 de 08:45 a 20:30h. \nLugar: Centro de Cultura Contemporánea El Carmen
URL:http://feapa.es/event/vi-jornada-arteterapia-y-educacion/
END:VEVENT
END:VCALENDAR