BEGIN:VCALENDAR
VERSION:2.0
PRODID:-//Feapa - ECPv5.3.0//NONSGML v1.0//EN
CALSCALE:GREGORIAN
METHOD:PUBLISH
X-WR-CALNAME:Feapa
X-ORIGINAL-URL:http://feapa.es
X-WR-CALDESC:Eventos para Feapa
BEGIN:VTIMEZONE
TZID:UTC
BEGIN:STANDARD
TZOFFSETFROM:+0000
TZOFFSETTO:+0000
TZNAME:UTC
DTSTART:20190101T000000
END:STANDARD
END:VTIMEZONE
BEGIN:VEVENT
DTSTART;TZID=UTC:20190109T170000
DTEND;TZID=UTC:20190109T183000
DTSTAMP:20260423T205319
CREATED:20190109T014637Z
LAST-MODIFIED:20190109T014637Z
UID:782-1547053200-1547058600@feapa.es
SUMMARY:Supervisión de Artterapia grupal en Barcelona
DESCRIPTION:Nuestro hacer en Artterápia trabaja con experiencias de vida en relación al ser humano. Esto nos implica a una formación contínua y una revisión de la práctica en la supervisión-covisión. \nOs propongo un espacio de trabajo donde reflexionar\, pensar y sentir la práctica para poder generar formas de intervención que reabran la experiencia en Artterapia. \nFechas: 16 noviembre\, 18 diciembre\, 25 de enero\, 1 marzo\,5 abril\,3 mayo\,7 junio \nHora: 17 a 18\,30h\nCoste: 25€ sesión socios Grefart\nLugar a concretar \nPara participar en las sesiones puedes contactar conisabelcarpiojuan@gmail.com o en el telef- 654238389
URL:http://feapa.es/event/supervision-de-artterapia-grupal-en-barcelona/
END:VEVENT
END:VCALENDAR