BEGIN:VCALENDAR
VERSION:2.0
PRODID:-//Feapa - ECPv5.3.0//NONSGML v1.0//EN
CALSCALE:GREGORIAN
METHOD:PUBLISH
X-WR-CALNAME:Feapa
X-ORIGINAL-URL:http://feapa.es
X-WR-CALDESC:Eventos para Feapa
BEGIN:VTIMEZONE
TZID:UTC
BEGIN:STANDARD
TZOFFSETFROM:+0000
TZOFFSETTO:+0000
TZNAME:UTC
DTSTART:20180101T000000
END:STANDARD
END:VTIMEZONE
BEGIN:VEVENT
DTSTART;TZID=UTC:20181116T170000
DTEND;TZID=UTC:20181116T183000
DTSTAMP:20260422T231949
CREATED:20181105T230949Z
LAST-MODIFIED:20181105T230949Z
UID:728-1542387600-1542393000@feapa.es
SUMMARY:SUPERVISIÓN DE ARTETERAPIA GRUPAL EN BARCELONA
DESCRIPTION:Nuestro hacer en Artterápia trabaja con experiencias de vida en relación al ser humano. Esto nos implica a una formación contínua y una revisión de la práctica en la supervisión-covisión.\n \n\nOs propongo un espacio de trabajo donde reflexionar\, pensar y sentir la práctica para poder generar formas de intervención que reabran la experiencia en Artterapia. \n\n\n\nFechas: 16 noviembre\n \n\nHora: 17 a 18\,30h\n \n\n\nCoste: 25€ sesión socios Grefart. 30€ no socios.\n \nLugar: a concretar \nPara participar en las sesiones puedes contactar con isabelcarpiojuan@gmail.com o en el telef- 654238389
URL:http://feapa.es/event/supervision-de-arteterapia-grupal-en-barcelona/
END:VEVENT
END:VCALENDAR