BEGIN:VCALENDAR
VERSION:2.0
PRODID:-//Feapa - ECPv5.3.0//NONSGML v1.0//EN
CALSCALE:GREGORIAN
METHOD:PUBLISH
X-WR-CALNAME:Feapa
X-ORIGINAL-URL:http://feapa.es
X-WR-CALDESC:Eventos para Feapa
BEGIN:VTIMEZONE
TZID:UTC
BEGIN:STANDARD
TZOFFSETFROM:+0000
TZOFFSETTO:+0000
TZNAME:UTC
DTSTART:20190101T000000
END:STANDARD
END:VTIMEZONE
BEGIN:VEVENT
DTSTART;TZID=UTC:20190131T200000
DTEND;TZID=UTC:20190131T213000
DTSTAMP:20260424T003040
CREATED:20190109T014523Z
LAST-MODIFIED:20190109T014523Z
UID:780-1548964800-1548970200@feapa.es
SUMMARY:SEMINARIOS DE FORMACIÓN CONTINUADA: FORMACIÓN PSICOANALÍTICA PARA TERAPEUTAS
DESCRIPTION:Octubre 2018a Junio 2019. Barcelona  \nMiquel Izuel Currià \nFORMACIÓN PSICOANALÍTICA PARA TERAPEUTAS\nDE LAS PATOLOGÍAS DENOMINADAS ACTUALES A LA COMPRENSIÓN DE SUS FUNDAMENTOS A PARTIR DE LA TEORÍA PSICOANALÍTICA\n\n\n\n\n“LA EXPERIENCIA NO MENTALIZADA \nEl término de experiencia no mentalizada se refiere a datos sensoriales elementales\, internos o externos\, que\, no habiéndose transformado en símbolos (representaciones mentales organizadas e integradas) o en afectos-señal (ansiedad que funciona como señal de un peligro inminente que requiere un acción pensada)\, son percibidos como objetos concretos en la psique o como estados corporales a los que se reacciona de forma corporal (es decir\, con síntomas o acciones somáticos). Estas experiencias no mentalizadas son “acumulaciones de estímulos” que no se pueden usarcomo alimento para el pensamiento ni almacenarse en forma de recuerdos. Al no ser guardadas en la mente\, tampoco pueden ser reprimidas\, sino que son aisladas como en una cuarentena\, donde permanecen altamente inmutables. Por lo tanto\, estas experiencias no mentalizadas constituyen uno de los aspectos más desafiantes de nuestro trabajo.” \nDel artículo: Toward An Understanding Of Unmentalized Experience\nAutora: Judith L. Mitrani\, Ph.D. \n  \nHe escogido como encabezamiento de la propuesta de seminario de este año el inicio del artículo de Mitrani antes referenciado. Se trata de un hilo de Ariadna para dar respuesta a las que\, en el seminario del año pasado\, apuntábamos como las dos líneas propuestas para la prosecución de nuestro seminario\, a saber\, abordar las patologías actuales mediante una revisión de la propuesta winnicottiana sobre lo que él denomina como la naturaleza humana. Si en principio podrían aparecer como líneas divergentes de trabajo\, el adentrarnos en el territorio psíquico que propone la mentalización\, puede orientar nuestro seminario de forma que ambas se nutran recíprocamente. \n\n\n\n\nNormalmente aquello que denominamos como patología actual puede ser tomado como unanalizador; quiero decir que se trata de un modo de nombrar lo actual en elusión al conocimiento de sus fundamentos. Utilizando la terminología psicoanalítica diríamos que loactual se funda en la represión de aquello que lo funda. Así lo “actual” es el olvido de lo ya sabido que genera malestar y que hay que tomarse la molestia de volver a la luz de su conocimiento. En este caso se trataría del levantamiento de la represión de la cultura psicoanalítica con sus aportes\, tanto sobre el desarrollo del psiquismo como el punto de su detención en lo que cristaliza como las denominadas patologías del narcisismo. \nHablar por ello de patologías actuales como patologías del narcisismo y hacerlo desde la“Naturaleza Humana” poniendo especial hincapié a esa parte del psiquismo que escapa a su mentalización\, es referirnos como su contrapunto\, a los ámbitos del psiquismo creador. \nEspero que os interese la propuesta. \nLugar: Balmes 23\, 5\, 3. Coste: 290 € miembros de Grefart y participantes de otras ediciones en los seminarios. 310 € otros.
URL:http://feapa.es/event/seminarios-de-formacion-continuada-formacion-psicoanalitica-para-terapeutas-2/
END:VEVENT
END:VCALENDAR