BEGIN:VCALENDAR
VERSION:2.0
PRODID:-//Feapa - ECPv5.3.0//NONSGML v1.0//EN
CALSCALE:GREGORIAN
METHOD:PUBLISH
X-WR-CALNAME:Feapa
X-ORIGINAL-URL:http://feapa.es
X-WR-CALDESC:Eventos para Feapa
BEGIN:VTIMEZONE
TZID:UTC
BEGIN:STANDARD
TZOFFSETFROM:+0000
TZOFFSETTO:+0000
TZNAME:UTC
DTSTART:20180101T000000
END:STANDARD
END:VTIMEZONE
BEGIN:VEVENT
DTSTART;TZID=UTC:20180525T163000
DTEND;TZID=UTC:20180525T210000
DTSTAMP:20260419T204131
CREATED:20180517T211007Z
LAST-MODIFIED:20180517T211007Z
UID:666-1527265800-1527282000@feapa.es
SUMMARY:Recorridos de la construcción identitaria en la adolescencia
DESCRIPTION:Seminario y taller \n\n“Recorridos de la construcción identitaria en la adolescencia”.\nExposición de una experiencia de Arteterapia con adolescentes\nTaller Experiencial con metodología de Arteterapia:“El espacio de la mirada” \n\n  \nFecha: 25 de Mayo 2018 \nCiudad: Murcia \nHorario: De 16.30 a 21.00 hs. \nLugar: Aulario Norte\, Campus de Espinardo – Universidad de Murcia \nCoste: Seminario gratuito limitado al aforo. Taller 8 euros.- con inscripción previa. \n  \nMás información: \nE-mail:murartt@gmail.com \nInscripciones y consultas:murartt@gmail.com
URL:http://feapa.es/event/recorridos-de-la-construccion-identitaria-en-la-adolescencia/
LOCATION:Murcia\, Murcia \, España
END:VEVENT
END:VCALENDAR