BEGIN:VCALENDAR
VERSION:2.0
PRODID:-//Feapa - ECPv5.3.0//NONSGML v1.0//EN
CALSCALE:GREGORIAN
METHOD:PUBLISH
X-WR-CALNAME:Feapa
X-ORIGINAL-URL:http://feapa.es
X-WR-CALDESC:Eventos para Feapa
BEGIN:VTIMEZONE
TZID:UTC
BEGIN:STANDARD
TZOFFSETFROM:+0000
TZOFFSETTO:+0000
TZNAME:UTC
DTSTART:20180101T000000
END:STANDARD
END:VTIMEZONE
BEGIN:VEVENT
DTSTART;TZID=UTC:20181123T170000
DTEND;TZID=UTC:20181123T190000
DTSTAMP:20260423T042745
CREATED:20181030T220242Z
LAST-MODIFIED:20181030T230222Z
UID:714-1542992400-1542999600@feapa.es
SUMMARY:PROGRAMA DE SUPERVISION EN ARTETERAPIA
DESCRIPTION:Profesionales con diversos enfoques y ámbitos de trabajo. \nOrganiza:AFIA Foro Iberamericano de Arteterapia \nDescripción: Espacio necesario para la reflexión de nuestra práctica\, que nos ayudará en el crecimiento personal y profesional. \nFecha:1 sesión al mes. \n23 Noviembre. Paz Martínez. \n14 Diciembre. Cristina Ramos. \n11 Enero. Olga Rueda. \n22 Febrero. Sofía Martín. \n15 Marzo. Ana Serrano. \n12 Abril. Lucía Hervás. \n10 Mayo. Mar Cobos. \n  \nHora:Viernes de 17 a 19 horas. \n  \nLugar:C/ Laurel 21\, 1A. \nMetro Acacias/Embajadores. \nEstación cercanías Pirámides. \n  \nCoste: \n– Socias de AFIA 20€ una sesión/ 120€ ciclo completo. \n– No socias 30€ una sesión/ 180€ ciclo completo. \n  \nInscripciones y consultas: \ninfo@afia.es – plazas limitadas. \nAbierto a socios de AFIA\, arteterapeutas y estudiantes de máster (2ocurso) realizando prácticas.
URL:http://feapa.es/event/programa-de-supervision-en-arteterapia/
END:VEVENT
END:VCALENDAR