BEGIN:VCALENDAR
VERSION:2.0
PRODID:-//Feapa - ECPv5.3.0//NONSGML v1.0//EN
CALSCALE:GREGORIAN
METHOD:PUBLISH
X-WR-CALNAME:Feapa
X-ORIGINAL-URL:http://feapa.es
X-WR-CALDESC:Eventos para Feapa
BEGIN:VTIMEZONE
TZID:UTC
BEGIN:STANDARD
TZOFFSETFROM:+0000
TZOFFSETTO:+0000
TZNAME:UTC
DTSTART:20180101T000000
END:STANDARD
END:VTIMEZONE
BEGIN:VEVENT
DTSTART;TZID=UTC:20180522T190000
DTEND;TZID=UTC:20180522T200000
DTSTAMP:20260419T184619
CREATED:20180507T201242Z
LAST-MODIFIED:20180507T201242Z
UID:653-1527015600-1527019200@feapa.es
SUMMARY:PRESENTACIÓN DEL MODELO COVISAGE
DESCRIPTION:  \n  \n  \n  \n  \n  \n  \nOrganiza:Ate\, Asociación Profesional Española de Arteterapeutas.\nDescripción:Covisage es un Kit de 3 herramientas integrada  en un libro-guía y un juego de fotografías\, diseñados para potenciar la creatividad a través dela autoexploración y de una metodología práctica basada en el juego. \nEl taller de presentación tienen una duración de 1\,5 horas.\nFechas:martes 22 de Mayo\nHora:19h a 20’30\nLugar:Sede de la Ate: C/Castillejos\, 222. Barcelona\nCoste:Gratuito\nInscripciones y consultas:ate.arteterapia@gmail.com \n* Asistencia bajo reserva con antelación mínima de 24h aforo máximo 30 personas.
URL:http://feapa.es/event/presentacion-del-modelo-covisage/
LOCATION:Sede de la Ate: C/Castillejos\, 222. Barcelona
END:VEVENT
END:VCALENDAR