BEGIN:VCALENDAR
VERSION:2.0
PRODID:-//Feapa - ECPv5.3.0//NONSGML v1.0//EN
CALSCALE:GREGORIAN
METHOD:PUBLISH
X-WR-CALNAME:Feapa
X-ORIGINAL-URL:http://feapa.es
X-WR-CALDESC:Eventos para Feapa
BEGIN:VTIMEZONE
TZID:UTC
BEGIN:STANDARD
TZOFFSETFROM:+0000
TZOFFSETTO:+0000
TZNAME:UTC
DTSTART:20180101T000000
END:STANDARD
END:VTIMEZONE
BEGIN:VEVENT
DTSTART;TZID=UTC:20180915T100000
DTEND;TZID=UTC:20180915T130000
DTSTAMP:20260420T053226
CREATED:20180904T182848Z
LAST-MODIFIED:20180904T185212Z
UID:680-1537005600-1537016400@feapa.es
SUMMARY:FOTOTRANSFERENCIA Y MIXED MEDIA - TÉCNICA Y JUEGO
DESCRIPTION:Organiza: ATe\, Asociación Profesional Española de Arteterapeutas. \nDescripción:  \nVamos a aprender cómo se hace una fototransferencia con imágenes de revistas. \nDespués se trata de jugar\, experimentar y familiarizarse con diferentes posibilidades y materiales de la creación. \nLa obra se va a realizar sobre papel hecho a mano\, tinta china\, hilos\, papel de seda y pigmentos naturales. \nQueremos alimentar la espontaneidad\, la curiosidad y el placer de la sorpresa. \n Tallerista: Petra Greule-Bstock \n Fecha: sábado 15 de Septiembrede 2018 \nHorario: 10/13hs \nPrecios: socias 35€- no socias 40€ \nAforo limitado\, se respetará el orden de inscripción \nmáximo 12 personas\, mínimo 5 personas \nInformación e inscripción: grupoarte.ate@gmail.com
URL:http://feapa.es/event/fototransferencia-y-mixed-media-tecnica-y-juego/
ATTACH;FMTTYPE=image/png:http://feapa.es/wp-content/uploads/2018/09/sept-01.png
END:VEVENT
END:VCALENDAR