BEGIN:VCALENDAR
VERSION:2.0
PRODID:-//Feapa - ECPv5.3.0//NONSGML v1.0//EN
CALSCALE:GREGORIAN
METHOD:PUBLISH
X-WR-CALNAME:Feapa
X-ORIGINAL-URL:http://feapa.es
X-WR-CALDESC:Eventos para Feapa
BEGIN:VTIMEZONE
TZID:UTC
BEGIN:STANDARD
TZOFFSETFROM:+0000
TZOFFSETTO:+0000
TZNAME:UTC
DTSTART:20180101T000000
END:STANDARD
END:VTIMEZONE
BEGIN:VEVENT
DTSTART;TZID=UTC:20180512T100000
DTEND;TZID=UTC:20180512T140000
DTSTAMP:20260419T133054
CREATED:20180507T201654Z
LAST-MODIFIED:20180507T201654Z
UID:661-1526119200-1526133600@feapa.es
SUMMARY:EL POTENCIAL DE LA FOTOGRAFÍA EN PROCESOS DE ACOMPAÑAMIENTO Y TERAPIA
DESCRIPTION:  \n  \n  \n  \n  \n  \n  \nOrganiza:Ate\, Asociación Profesional Española de Arteterapeutas.\nDescripción:Este taller está diseñado con el convencimiento de que la fotografía tiene un gran potencial para profesionales con interés en el conocimientoy la relación entre personas. Así\, el objetivo de este taller es proponer un marco para el uso de la fotografía como facilitadora en dinámicas colaborativas\, creativas y terapéuticas\, poniendo el foco en dinámicas básicas individuales y grupales.\nEn el taller se combina esta práctica con una fundamentación teórica\, donde se hará un repaso de los diferentes grupos de técnicas que hacen uso de la fotografía en entornos de facilitación terapéutica\, haciendo hincapié en el potencial de las imágenes y también mostrando experiencias de campo\, desde la revisión de proyectos y estudio de caso. \nEl taller introductorio tienen una duración de 4 horas.\nFechas:sábado 12 de mayo\nHora:10h a 14h\nLugar:Sede de la Ate: C/Castillejos\, 222. Barcelona\nCoste:35€ socias y estudiantes\,  50€ no socias\nInscripciones y consultas:ate.arteterapia@gmail.com(Plazo de inscripción y pago hasta el domingo 6 de mayo) \n*aforo mínimo 5 personas\, máximo 10
URL:http://feapa.es/event/el-potencial-de-la-fotografia-en-procesos-de-acompanamiento-y-terapia/
LOCATION:Sede de la Ate: C/Castillejos\, 222. Barcelona
END:VEVENT
END:VCALENDAR