BEGIN:VCALENDAR
VERSION:2.0
PRODID:-//Feapa - ECPv5.3.0//NONSGML v1.0//EN
CALSCALE:GREGORIAN
METHOD:PUBLISH
X-WR-CALNAME:Feapa
X-ORIGINAL-URL:http://feapa.es
X-WR-CALDESC:Eventos para Feapa
BEGIN:VTIMEZONE
TZID:UTC
BEGIN:STANDARD
TZOFFSETFROM:+0000
TZOFFSETTO:+0000
TZNAME:UTC
DTSTART:20190101T000000
END:STANDARD
END:VTIMEZONE
BEGIN:VEVENT
DTSTART;TZID=UTC:20190308T150000
DTEND;TZID=UTC:20190308T180000
DTSTAMP:20260424T033504
CREATED:20190215T124318Z
LAST-MODIFIED:20190215T124318Z
UID:795-1552057200-1552068000@feapa.es
SUMMARY:Curso de formación de supervisora/es 2019
DESCRIPTION:Organiza:ATe\, Asociación Profesional Española de Arteterapeutas. \n  \nDescripción:La supervisión es uno de los pilares importantes de nuestro trabajo clínico como arteterapeutas\, por ello desde ATe queremos ofrecer este curso de formación avanzada para formarse como supervisor/a. La formación va dirigida a profesionales con trayectoria profesional y recorrido personal suficiente que deseen formarse para obtener los conocimientos y recursos que les habiliten para poder ejercer como supervisoras/es en un futuro. \nLa formación consiste en 9 sesiones de 3h\, dos viernes al mes en horario de tarde. En los cuales se supervisarán un caso aportado por cada participante de forma continuada durante 4 sesiones. Tres casos la primera mitad de curso y tres casos la segunda mitad del curso. Un total de 27 horas prácticas de supervisión/covisión. La otra parte del curso será la parte teórica\, con artículos y bibliografía que se enviará cada encuentro para trabajar en casa y compartir en el siguiente encuentro. \nEl grupo será de 5 a 7 personas máximo con posibilidad de participar online. \nLa asistencia es obligatoria en la totalidad de la formación para poder solicitar la acreditación aunque se contempla en casos excepcionales la ausencia a una sesión. \n  \nRequisitosque deben cumplir las profesionales que deseen realizar la formación: \n  \na) Haber realizado una formación que cumpla los criterios mínimos reconocidos por la FEAPA\, y estar asociados como miembros titulares en alguna de las asociaciones profesionales integrantes de la Federación. \nb) Haber ejercido como profesionales en el campo del arteterapia un mínimo de cuatro años con un mínimo de 320h de práctica clínica (lo que corresponde a dos pacientes anuales). \nc) Deberán justificar supervisión de su práctica profesional en un mínimo de 70 horas de supervisión individual o lo equivalente en supervisión grupal (2h grupales equivalen a una hora individual). Este requisito puede cumplirse parcialmente para la realización de la formación. Sin embargo deberá cumplirse en su totalidad de horas si se desea solicitar la acreditación como supervisor/a y figurar en el directorio de supervisoras/es de la web de la ATe. \n  \nSupervisora docente: Sibylle Sceri \n  \nFechas:   viernes 8 y 29 de Marzo \n                viernes 12 y 26 de Abril \n                viernes 10 y 24 de Mayo \n                viernes 14 y 21 de Junio \n                viernes 5 de Julio \n  \nLugar:Sede de la ATE: C/Castillejos\, 222 bajos. Barcelona \n  \nPrecio del curso: 540€ soci@s / 630€ no soci@s (60€/70€ la sesión) a pagar en un sólo plazo. \n  \nInscripciones y consultas: Las personas interesadas en realizar este curso deberán mandar un mail a secretaria de la ATe ate.arteterapia@gmail.compara que se les envíe el formulario y realizar el pago del curso antes del 28 de Febrero. Al ser plazas limitadas\, las plazas se otorgarán por orden de inscripción/pago del curso.
URL:http://feapa.es/event/curso-de-formacion-de-supervisora-es-2019/
LOCATION:Sede de la Ate: C/Castillejos\, 222. Barcelona
ATTACH;FMTTYPE=image/png:http://feapa.es/wp-content/uploads/2019/02/Imagen-1.png
END:VEVENT
END:VCALENDAR