BEGIN:VCALENDAR
VERSION:2.0
PRODID:-//Feapa - ECPv5.3.0//NONSGML v1.0//EN
CALSCALE:GREGORIAN
METHOD:PUBLISH
X-WR-CALNAME:Feapa
X-ORIGINAL-URL:http://feapa.es
X-WR-CALDESC:Eventos para Feapa
BEGIN:VTIMEZONE
TZID:UTC
BEGIN:STANDARD
TZOFFSETFROM:+0000
TZOFFSETTO:+0000
TZNAME:UTC
DTSTART:20200101T000000
END:STANDARD
END:VTIMEZONE
BEGIN:VEVENT
DTSTART;TZID=UTC:20200825T120000
DTEND;TZID=UTC:20200825T150000
DTSTAMP:20260425T193837
CREATED:20200708T174650Z
LAST-MODIFIED:20200708T183712Z
UID:974-1598356800-1598367600@feapa.es
SUMMARY:Creación y Nutrición para el Autocuidado de la Arteterapeuta
DESCRIPTION:FORMACIÓN CONTINUA PARA PROFESIONALES Y ESTUDIANTES DE LA ARTETERAPIA.\nUn espacio y tiempo de cuidado personal\, de nutrición y escucha interna\, de atención a la propia obra y necesidad creadora.\nOfreceremos también espacios de trabajo grupal en arteterapia y supervisión para elaborar las propias necesidades emergentes y convertirlas en material revelador puesto en juego en el trabajo con otras personas.\nEl residencial se enmarca en un lugar inspirador\, en contacto con la naturaleza y con el medio rural. Daremos además atención al cuerpo\, al movimiento\, el yoga y la meditación.\nAcompañan y dirigen: Ana Serrano y Marina Ojeda.\nFormación avalada por ANDART\, AFIA Y ARGOS. \n  \nhttps://m.facebook.com/events/553320172052699
URL:http://feapa.es/event/creacion-y-nutricion-para-el-autocuidado-de-la-arteterapeuta/
END:VEVENT
END:VCALENDAR