BEGIN:VCALENDAR
VERSION:2.0
PRODID:-//Feapa - ECPv5.3.0//NONSGML v1.0//EN
CALSCALE:GREGORIAN
METHOD:PUBLISH
X-WR-CALNAME:Feapa
X-ORIGINAL-URL:http://feapa.es
X-WR-CALDESC:Eventos para Feapa
BEGIN:VTIMEZONE
TZID:UTC
BEGIN:STANDARD
TZOFFSETFROM:+0000
TZOFFSETTO:+0000
TZNAME:UTC
DTSTART:20190101T000000
END:STANDARD
END:VTIMEZONE
BEGIN:VEVENT
DTSTART;TZID=UTC:20191127T080000
DTEND;TZID=UTC:20191127T170000
DTSTAMP:20260425T142503
CREATED:20190921T152013Z
LAST-MODIFIED:20190921T152057Z
UID:902-1574841600-1574874000@feapa.es
SUMMARY:CONGRESO INTERNACIONAL ALETHEIA: ARTE\, ARTETERAPIA\, TRAUMA Y MEMORIA EMOCIONAL. 27\, 28\, 29 NOVIEMBRE 2019
DESCRIPTION:CONGRESO INTERNACIONAL ALETHEIA: \nARTE\, ARTETERAPIA\, TRAUMA Y MEMORIA EMOCIONAL. 27\, 28\, 29 NOVIEMBRE 2019 \nMás información aquí
URL:http://feapa.es/event/congreso-internacional-aletheia-arte-arteterapia-trauma-y-memoria-emocional-27-28-29-noviembre-2019/
END:VEVENT
END:VCALENDAR