BEGIN:VCALENDAR
VERSION:2.0
PRODID:-//Feapa - ECPv5.3.0//NONSGML v1.0//EN
CALSCALE:GREGORIAN
METHOD:PUBLISH
X-WR-CALNAME:Feapa
X-ORIGINAL-URL:http://feapa.es
X-WR-CALDESC:Eventos para Feapa
BEGIN:VTIMEZONE
TZID:UTC
BEGIN:STANDARD
TZOFFSETFROM:+0000
TZOFFSETTO:+0000
TZNAME:UTC
DTSTART:20180101T000000
END:STANDARD
END:VTIMEZONE
BEGIN:VEVENT
DTSTART;TZID=UTC:20180926T190000
DTEND;TZID=UTC:20180926T210000
DTSTAMP:20260422T090242
CREATED:20180904T183159Z
LAST-MODIFIED:20180904T185447Z
UID:683-1537988400-1537995600@feapa.es
SUMMARY:CHARLA-COLOQUIO. DIALOGO ENTRE PROFESIONALES: LA IMPORTANCIA DEL TRABAJO INTERDISCIPLINAR EN LA INTERVENCION SOCIAL Y EL ARTETERAPIA
DESCRIPTION:Organiza:Delegación Canaria Ate. \nDescripción: \nLa Delegación Canaria  ATe\, presenta un diálogo entre profesionales en el área social. Se quiere dar visibilidad a la importancia de los equipos de trabajo para la integración del arteterapia.  \nDicha charla-coloquio mostrará una reflexión desde la perspectiva de dichos profesionales\, en la idoneidad del arteterapia como complemento en las diferentes intervenciones en la población con la que se trabaja. \nFechas: miércoles 26 de septiembrede 2018 \nHora:19:00 a 21:00h \nLugar:a determinar \nCoste:a determinar \nInscripciones y consultas:ate.archipielagocanario@gmail.com
URL:http://feapa.es/event/charla-coloquio-dialogo-entre-profesionales-la-importancia-del-trabajo-interdisciplinar-en-la-intervencion-social-y-el-arteterapia/
ATTACH;FMTTYPE=image/png:http://feapa.es/wp-content/uploads/2018/09/sept-02.png
END:VEVENT
END:VCALENDAR